BEGIN:VCALENDAR
VERSION:2.0
PRODID:-//AEPA Alicante - ECPv6.9.1//NONSGML v1.0//EN
CALSCALE:GREGORIAN
METHOD:PUBLISH
X-WR-CALNAME:AEPA Alicante
X-ORIGINAL-URL:https://www.aepalicante.net
X-WR-CALDESC:Eventos para AEPA Alicante
REFRESH-INTERVAL;VALUE=DURATION:PT1H
X-Robots-Tag:noindex
X-PUBLISHED-TTL:PT1H
BEGIN:VTIMEZONE
TZID:Europe/Madrid
BEGIN:DAYLIGHT
TZOFFSETFROM:+0100
TZOFFSETTO:+0200
TZNAME:CEST
DTSTART:20240331T010000
END:DAYLIGHT
BEGIN:STANDARD
TZOFFSETFROM:+0200
TZOFFSETTO:+0100
TZNAME:CET
DTSTART:20241027T010000
END:STANDARD
END:VTIMEZONE
BEGIN:VEVENT
DTSTART;VALUE=DATE:20240925
DTEND;VALUE=DATE:20240926
DTSTAMP:20260425T012658
CREATED:20241215T203433Z
LAST-MODIFIED:20241215T204751Z
UID:11397-1727222400-1727308799@www.aepalicante.net
SUMMARY:ACTO DE ENTREGA DEL SELLO DE IGUALDAD
DESCRIPTION:Cada año\, AEPA otorga el Sello de Igualdad a entidades públicas y privadas comprometidas con la igualdad de género. Este reconocimiento\, creado en 2015\, representa una hoja de ruta hacia la igualdad en el mundo laboral.\nEl Sello de Igualdad consta de 10 puntos con acciones específicas que refuerzan el valor de la igualdad en el entorno empresarial. \n¿Eres asociada de AEPA?\n¿Tu empresa trabaja acciones que promueven la igualdad?\n¿Te gustaría solicitar el Sello de Igualdad de AEPA? \nCompleta el formulario disponible en el siguiente enlace y únete a nuestro compromiso por la igualdad en las empresas  \nActualmente\, se están analizando las candidaturas recibidas.\nEn breve informaremos de las entidades que recibirán el sello.
URL:https://www.aepalicante.net/event/acto-de-entrega-del-sello-de-igualdad/
CATEGORIES:Events
ATTACH;FMTTYPE=image/png:https://www.aepalicante.net/wp-content/uploads/2024/12/unnamed11-T3RyoU.tmp_.png
END:VEVENT
END:VCALENDAR