BEGIN:VCALENDAR
VERSION:2.0
PRODID:-//AEPA Alicante - ECPv6.9.1//NONSGML v1.0//EN
CALSCALE:GREGORIAN
METHOD:PUBLISH
X-WR-CALNAME:AEPA Alicante
X-ORIGINAL-URL:https://www.aepalicante.net
X-WR-CALDESC:Eventos para AEPA Alicante
REFRESH-INTERVAL;VALUE=DURATION:PT1H
X-Robots-Tag:noindex
X-PUBLISHED-TTL:PT1H
BEGIN:VTIMEZONE
TZID:Europe/Paris
BEGIN:DAYLIGHT
TZOFFSETFROM:+0100
TZOFFSETTO:+0200
TZNAME:CEST
DTSTART:20220327T010000
END:DAYLIGHT
BEGIN:STANDARD
TZOFFSETFROM:+0200
TZOFFSETTO:+0100
TZNAME:CET
DTSTART:20221030T010000
END:STANDARD
END:VTIMEZONE
BEGIN:VEVENT
DTSTART;TZID=Europe/Paris:20220708T140000
DTEND;TZID=Europe/Paris:20220708T170000
DTSTAMP:20260424T074521
CREATED:20241215T203244Z
LAST-MODIFIED:20241215T204736Z
UID:11309-1657288800-1657299600@www.aepalicante.net
SUMMARY:Almuerzo -coloquio con Teresa Viejo. Presentación del libro: "La niña que todo lo quería saber"
DESCRIPTION:AEPA te propone una muy interesante actividad cultural para conocer a la periodista y escritora Teresa Viejo con la que tendremos la ocasión de almorzar y conocer su obra «La niña que todo lo quería saber».\nFecha: viernes 8 de julio.\nHorario: 14h\nLugar: Restaurante Hotel AC Marriott de Alicante.\nPrecio: 28 euros \n[inidis_boton_producto id=6878]
URL:https://www.aepalicante.net/event/almuerzo-coloquio-con-teresa-viejo-presentacion-del-libro-la-nina-que-todo-lo-queria-saber/
ATTACH;FMTTYPE=image/jpeg:https://www.aepalicante.net/wp-content/uploads/2024/12/AEPA-Labora-19-Teresa-Viejo-2-Q2JjjV.tmp_.jpg
END:VEVENT
END:VCALENDAR