BEGIN:VCALENDAR
VERSION:2.0
PRODID:-//AEPA Alicante - ECPv6.9.1//NONSGML v1.0//EN
CALSCALE:GREGORIAN
METHOD:PUBLISH
X-WR-CALNAME:AEPA Alicante
X-ORIGINAL-URL:https://www.aepalicante.net
X-WR-CALDESC:Eventos para AEPA Alicante
REFRESH-INTERVAL;VALUE=DURATION:PT1H
X-Robots-Tag:noindex
X-PUBLISHED-TTL:PT1H
BEGIN:VTIMEZONE
TZID:Europe/Paris
BEGIN:DAYLIGHT
TZOFFSETFROM:+0100
TZOFFSETTO:+0200
TZNAME:CEST
DTSTART:20220327T010000
END:DAYLIGHT
BEGIN:STANDARD
TZOFFSETFROM:+0200
TZOFFSETTO:+0100
TZNAME:CET
DTSTART:20221030T010000
END:STANDARD
END:VTIMEZONE
BEGIN:VEVENT
DTSTART;TZID=Europe/Paris:20221221T190000
DTEND;TZID=Europe/Paris:20221221T190000
DTSTAMP:20260424T023123
CREATED:20241215T203320Z
LAST-MODIFIED:20241215T204739Z
UID:11339-1671649200-1671649200@www.aepalicante.net
SUMMARY:Asamblea General de AEPA
DESCRIPTION:Tras un año de trabajo\, AEPA y Mujeres por la Igualdad convocan Asamblea General Ordinaria\, un evento en el que todas las asociadas estamos invitadas y en el que se presentarán las cuentas del 2022\, la memora de actividades\, los presupuestos del 2023 y una propuesta de actividades para el 2023. Al finalizar tomaremos con un cóctel de Navidad. \nFecha 21 de diciembre.\nHora: 19h\nLugar: Hotel Calas\nAvenida de la Costa Blanca\, 22A en Alicante.\nEnlace de localización. \nConfirmar asistencia  en este enlace o enviado un correo a secretaria@aepalicante.net
URL:https://www.aepalicante.net/event/asamblea-general-de-aepa/
CATEGORIES:Events
ATTACH;FMTTYPE=image/jpeg:https://www.aepalicante.net/wp-content/uploads/2024/12/unnamed3-Pfu2qF.tmp_.jpg
END:VEVENT
END:VCALENDAR