BEGIN:VCALENDAR
VERSION:2.0
PRODID:-//AEPA Alicante - ECPv6.9.1//NONSGML v1.0//EN
CALSCALE:GREGORIAN
METHOD:PUBLISH
X-WR-CALNAME:AEPA Alicante
X-ORIGINAL-URL:https://www.aepalicante.net
X-WR-CALDESC:Eventos para AEPA Alicante
REFRESH-INTERVAL;VALUE=DURATION:PT1H
X-Robots-Tag:noindex
X-PUBLISHED-TTL:PT1H
BEGIN:VTIMEZONE
TZID:Europe/Paris
BEGIN:DAYLIGHT
TZOFFSETFROM:+0100
TZOFFSETTO:+0200
TZNAME:CEST
DTSTART:20230326T010000
END:DAYLIGHT
BEGIN:STANDARD
TZOFFSETFROM:+0200
TZOFFSETTO:+0100
TZNAME:CET
DTSTART:20231029T010000
END:STANDARD
END:VTIMEZONE
BEGIN:VEVENT
DTSTART;TZID=Europe/Paris:20230427T163000
DTEND;TZID=Europe/Paris:20230427T180000
DTSTAMP:20260424T060437
CREATED:20241215T203353Z
LAST-MODIFIED:20241215T204740Z
UID:11369-1682613000-1682618400@www.aepalicante.net
SUMMARY:CLAVES DEL TRABAJO EN EQUIPO. SCAPE ROOM: LA MALDICIÓN DEL ROMEA
DESCRIPTION:AEPA organiza una formación para desarrollar las habilidades del trabajo en equipo. \nJunto con el equipo de Aquora\, durante la jornada\, se realizará un juego de escape\, en el que los equipos tendrán que resolver diferentes pruebas\, enigmas y misterios. \nHabilidades que se trabajarán: La capacidad de resolución\, el trabajo en equipo\, la comunicación y escucha\, el pensamiento lateral\, la orientación a resultados\, la adaptación al cambio\, la observación o el trabajo bajo presión. \nAl terminar se realizará un networking informal con un tapeo italiano.\nFormadores: empresa Aquora.\n🕟 16h30\n🗓 27-04\n📍Restaurante Danioti\nMuelle 8\, zona de Levante en Alicante.\nPlazas limitadas \n¡INCRIPCIONES EN ESTE LINK! \n¡PINCHA AQUÍ PARA MÁS INFO
URL:https://www.aepalicante.net/event/claves-del-trabajo-en-equipo-scape-room-la-maldicion-del-romea/
CATEGORIES:Events
ATTACH;FMTTYPE=image/jpeg:https://www.aepalicante.net/wp-content/uploads/2024/12/CLAVES-TRABAJO-EN-EQUIPO-UztPyY.tmp_.jpg
END:VEVENT
END:VCALENDAR