BEGIN:VCALENDAR
VERSION:2.0
PRODID:-//AEPA Alicante - ECPv6.9.1//NONSGML v1.0//EN
CALSCALE:GREGORIAN
METHOD:PUBLISH
X-WR-CALNAME:AEPA Alicante
X-ORIGINAL-URL:https://www.aepalicante.net
X-WR-CALDESC:Eventos para AEPA Alicante
REFRESH-INTERVAL;VALUE=DURATION:PT1H
X-Robots-Tag:noindex
X-PUBLISHED-TTL:PT1H
BEGIN:VTIMEZONE
TZID:Europe/Madrid
BEGIN:DAYLIGHT
TZOFFSETFROM:+0100
TZOFFSETTO:+0200
TZNAME:CEST
DTSTART:20240331T010000
END:DAYLIGHT
BEGIN:STANDARD
TZOFFSETFROM:+0200
TZOFFSETTO:+0100
TZNAME:CET
DTSTART:20241027T010000
END:STANDARD
END:VTIMEZONE
BEGIN:VEVENT
DTSTART;TZID=Europe/Madrid:20240926T190000
DTEND;TZID=Europe/Madrid:20240926T203000
DTSTAMP:20260425T032735
CREATED:20241215T203716Z
LAST-MODIFIED:20241215T204751Z
UID:11485-1727377200-1727382600@www.aepalicante.net
SUMMARY:Club de Lectura AEPA con Carolina Martín Abad
DESCRIPTION:Se trata de una iniciativa en el que se combinará lectura y reflexión. El club que se reunirá cada mes y medio tendrá que comentar un libro previamente seleccionado. Esta actividad ha sido realizada con las primeras promociones del Curso de Liderazgo Femenino.\nFecha: 26-09\nHorario: 19 a 20h30\nLugar: Librería Ultramar en Alicante\nInscripciones en este enlace.
URL:https://www.aepalicante.net/event/club-de-lectura-aepa-con-carolina-martin-abad/
CATEGORIES:Events
ATTACH;FMTTYPE=image/jpeg:https://www.aepalicante.net/wp-content/uploads/2024/12/AEPA-Alicante-Compartir.jpg
END:VEVENT
END:VCALENDAR