BEGIN:VCALENDAR
VERSION:2.0
PRODID:-//AEPA Alicante - ECPv6.9.1//NONSGML v1.0//EN
CALSCALE:GREGORIAN
METHOD:PUBLISH
X-WR-CALNAME:AEPA Alicante
X-ORIGINAL-URL:https://www.aepalicante.net
X-WR-CALDESC:Eventos para AEPA Alicante
REFRESH-INTERVAL;VALUE=DURATION:PT1H
X-Robots-Tag:noindex
X-PUBLISHED-TTL:PT1H
BEGIN:VTIMEZONE
TZID:Europe/Paris
BEGIN:DAYLIGHT
TZOFFSETFROM:+0100
TZOFFSETTO:+0200
TZNAME:CEST
DTSTART:20220327T010000
END:DAYLIGHT
BEGIN:STANDARD
TZOFFSETFROM:+0200
TZOFFSETTO:+0100
TZNAME:CET
DTSTART:20221030T010000
END:STANDARD
END:VTIMEZONE
BEGIN:VEVENT
DTSTART;TZID=Europe/Paris:20220704T093000
DTEND;TZID=Europe/Paris:20220707T140000
DTSTAMP:20260424T100916
CREATED:20241215T203236Z
LAST-MODIFIED:20241215T204735Z
UID:11304-1656927000-1657202400@www.aepalicante.net
SUMMARY:Curso de verano Universidad de Alicante "Igualdad de Género en la Empresa".
DESCRIPTION:Fecha: del 4 al 7 de julio de 2022\nLugar: sede calle San Fernando. Aula SF/2-03\nModalidad: presencial\nCréditos: 15 horas / 1\,5 créditos ECTS\nFormación coordinada por AEPA. \n\nRequisitos de acceso: alumnado de la Universidad de Alicante en grados de las facultades de Derecho\,  Económicas y Empresariales. Socias de AEPA. Otros profesionales vinculados a acciones de igualdad de género en las empresas.\nRequisitos para la obtención del diploma o certificado: asistencia al 80% de las sesiones y trabajo a determinar por la dirección del curso.\nBecas subvencionadas por AEPA y por Labora: 26 plazas:– 13 plazas para asociadas AEPA\n– 13 plazas para estudiantes que tengan superados\, al menos 180    créditos para los grados y 240 créditos para dobles grados\, de las titulaciones de: Economía\,  Administración y  Dirección de Empresas\, doble grado en ADE\, TADE\, I2ADE\, Derecho y DADE\, Sociologías\n\nPreinscripciones en este enlace.
URL:https://www.aepalicante.net/event/curso-de-verano-universidad-de-alicante-igualdad-de-genero-en-la-empresa/
CATEGORIES:Events
ATTACH;FMTTYPE=image/jpeg:https://www.aepalicante.net/wp-content/uploads/2024/12/curso-verano-HMhCGh.tmp_.jpg
END:VEVENT
END:VCALENDAR