BEGIN:VCALENDAR
VERSION:2.0
PRODID:-//AEPA Alicante - ECPv6.9.1//NONSGML v1.0//EN
CALSCALE:GREGORIAN
METHOD:PUBLISH
X-WR-CALNAME:AEPA Alicante
X-ORIGINAL-URL:https://www.aepalicante.net
X-WR-CALDESC:Eventos para AEPA Alicante
REFRESH-INTERVAL;VALUE=DURATION:PT1H
X-Robots-Tag:noindex
X-PUBLISHED-TTL:PT1H
BEGIN:VTIMEZONE
TZID:Europe/Paris
BEGIN:DAYLIGHT
TZOFFSETFROM:+0100
TZOFFSETTO:+0200
TZNAME:CEST
DTSTART:20230326T010000
END:DAYLIGHT
BEGIN:STANDARD
TZOFFSETFROM:+0200
TZOFFSETTO:+0100
TZNAME:CET
DTSTART:20231029T010000
END:STANDARD
END:VTIMEZONE
BEGIN:VEVENT
DTSTART;TZID=Europe/Paris:20230317T140000
DTEND;TZID=Europe/Paris:20230317T180000
DTSTAMP:20260424T041427
CREATED:20241215T203351Z
LAST-MODIFIED:20241215T204740Z
UID:11365-1679061600-1679076000@www.aepalicante.net
SUMMARY:ENCUENTRO LITERARIO con Viruca Yebra
DESCRIPTION:«Durante la noche el resplandor de los bombardeos había iluminado el cielo\, haciendo que las nubes brillantes y pálidas lo recortaran como si fueran figuras fantasmales.» Con esta frase comienza el nuevo libro de Viruca Yebra\, editado por Planeta y titulado «La Condesa Nazi«. \nDe él y de la historia de Clotilde\, su protagonista\, nos hablará la autora en el próximo encuentro literario que AEPA organiza junto con Mujeres por la Igualdad. \n🗓 Viernes 17 de marzo 2023\n📍 Hotel Hilton Casa Alberola\, Canalejas nº 1\,  Alicante. \n¿TE APUNTAS? Las plazas son limitadas y el precio de la comida es de 35 euros. \nLink de inscripción: \n[inidis_boton_producto id=7458] \nLa jornada será presentada por la empresaria Sara Navarro\, Vicepresidenta de AMMDE.
URL:https://www.aepalicante.net/event/encuentro-literario-con-viruca-yebra/
CATEGORIES:Events
ATTACH;FMTTYPE=image/jpeg:https://www.aepalicante.net/wp-content/uploads/2024/12/unnamed-1-TMCye2.tmp_.jpg
END:VEVENT
END:VCALENDAR