BEGIN:VCALENDAR
VERSION:2.0
PRODID:-//AEPA Alicante - ECPv6.9.1//NONSGML v1.0//EN
CALSCALE:GREGORIAN
METHOD:PUBLISH
X-WR-CALNAME:AEPA Alicante
X-ORIGINAL-URL:https://www.aepalicante.net
X-WR-CALDESC:Eventos para AEPA Alicante
REFRESH-INTERVAL;VALUE=DURATION:PT1H
X-Robots-Tag:noindex
X-PUBLISHED-TTL:PT1H
BEGIN:VTIMEZONE
TZID:Europe/Madrid
BEGIN:DAYLIGHT
TZOFFSETFROM:+0100
TZOFFSETTO:+0200
TZNAME:CEST
DTSTART:20230326T010000
END:DAYLIGHT
BEGIN:STANDARD
TZOFFSETFROM:+0200
TZOFFSETTO:+0100
TZNAME:CET
DTSTART:20231029T010000
END:STANDARD
END:VTIMEZONE
BEGIN:VEVENT
DTSTART;TZID=Europe/Madrid:20231021T100000
DTEND;TZID=Europe/Madrid:20231021T120000
DTSTAMP:20260424T215928
CREATED:20241215T203437Z
LAST-MODIFIED:20241215T204743Z
UID:11403-1697882400-1697889600@www.aepalicante.net
SUMMARY:Jornada AEPA Comunicación Interpersonal. Da lo mejor de ti en tu comunicación profesional y personal.
DESCRIPTION:Nueva jornada Labora que organiza AEPA junto con la asociación e.empresarias.com\nPonentes Ana Belén Jover y Amparo Seller componentes de la Escuela Internacional de Educación en Positivo.\nFecha. 21-10\nHora: 10 a 12h\nLugar: Pirámide de la Plaza de Toros\, avenida de la Constitución nº 145 \, Villena. \nInscripciones en este enlace.
URL:https://www.aepalicante.net/event/jornada-aepa-comunicacion-interpersonal-da-lo-mejor-de-ti-en-tu-comunicacion-profesional-y-personal/
CATEGORIES:Events
ATTACH;FMTTYPE=image/jpeg:https://www.aepalicante.net/wp-content/uploads/2024/12/unnamed14-TSjaOD.tmp_.jpg
END:VEVENT
END:VCALENDAR