BEGIN:VCALENDAR
VERSION:2.0
PRODID:-//AEPA Alicante - ECPv6.9.1//NONSGML v1.0//EN
CALSCALE:GREGORIAN
METHOD:PUBLISH
X-WR-CALNAME:AEPA Alicante
X-ORIGINAL-URL:https://www.aepalicante.net
X-WR-CALDESC:Eventos para AEPA Alicante
REFRESH-INTERVAL;VALUE=DURATION:PT1H
X-Robots-Tag:noindex
X-PUBLISHED-TTL:PT1H
BEGIN:VTIMEZONE
TZID:Europe/Madrid
BEGIN:DAYLIGHT
TZOFFSETFROM:+0100
TZOFFSETTO:+0200
TZNAME:CEST
DTSTART:20240331T010000
END:DAYLIGHT
BEGIN:STANDARD
TZOFFSETFROM:+0200
TZOFFSETTO:+0100
TZNAME:CET
DTSTART:20241027T010000
END:STANDARD
END:VTIMEZONE
BEGIN:VEVENT
DTSTART;TZID=Europe/Madrid:20240925T170000
DTEND;TZID=Europe/Madrid:20240925T190000
DTSTAMP:20260425T050411
CREATED:20241215T203714Z
LAST-MODIFIED:20241215T204751Z
UID:11481-1727283600-1727290800@www.aepalicante.net
SUMMARY:JORNADA AEPA :Novedades Legislativas en materia de Relaciones Laborales y Negociación Colectiva
DESCRIPTION:la Jornada AEPA sobre «Novedades Legislativas en materia de Relaciones Laborales y Negociación Colectiva» tratará sobre las novedades en laboral para las empresas y trabajadores así como la situación en la que se encuentra  la negociación colectiva entre patronal\, sindicatos y el Gobierno. \nLugar de celebración: Calle Orense 10 de Alicante\nHorario de 17 a 19h\nFecha : 25-09 \nPonentes: Begoña González Requena y Pablo Guillén  abogados y asociados principales de Cuatrecasas y Arturo Cerveró Duato\, director de Relaciones Laborales de la CEV.\nInscripción en este enlace.
URL:https://www.aepalicante.net/event/jornada-aepa-novedades-legislativas-en-materia-de-relaciones-laborales-y-negociacion-colectiva/
CATEGORIES:Events
ATTACH;FMTTYPE=image/jpeg:https://www.aepalicante.net/wp-content/uploads/2024/12/unnamed39-GhYEZJ.tmp_.jpg
END:VEVENT
END:VCALENDAR