BEGIN:VCALENDAR
VERSION:2.0
PRODID:-//AEPA Alicante - ECPv6.9.1//NONSGML v1.0//EN
CALSCALE:GREGORIAN
METHOD:PUBLISH
X-WR-CALNAME:AEPA Alicante
X-ORIGINAL-URL:https://www.aepalicante.net
X-WR-CALDESC:Eventos para AEPA Alicante
REFRESH-INTERVAL;VALUE=DURATION:PT1H
X-Robots-Tag:noindex
X-PUBLISHED-TTL:PT1H
BEGIN:VTIMEZONE
TZID:Europe/Madrid
BEGIN:DAYLIGHT
TZOFFSETFROM:+0100
TZOFFSETTO:+0200
TZNAME:CEST
DTSTART:20230326T010000
END:DAYLIGHT
BEGIN:STANDARD
TZOFFSETFROM:+0200
TZOFFSETTO:+0100
TZNAME:CET
DTSTART:20231029T010000
END:STANDARD
END:VTIMEZONE
BEGIN:VEVENT
DTSTART;TZID=Europe/Madrid:20231218T160000
DTEND;TZID=Europe/Madrid:20231218T160000
DTSTAMP:20260424T091717
CREATED:20241215T203506Z
LAST-MODIFIED:20241215T204746Z
UID:11414-1702915200-1702915200@www.aepalicante.net
SUMMARY:JORNADA "SEGUIR CONSTRUYENDO JUNTOS UN FUTURO ILUSIONANTE"
DESCRIPTION:La Fundación Transformación Social y Humana con el respaldo del Ministerio de Trabajo y Economía Social\, Banco Sabadell y la colaboración de AEPA\, organiza la jornada «Seguir Construyendo Juntos un Futuro Ilusionante». \nTendrá lugar el 18 de diciembre a las 16h\, el AUDITORIO del Banco Sabadell. \nLa iniciativa tiene como objetivo principal difundir los múltiples beneficios de la responsabilidad social en el ámbito empresarial. \nLos destacados ponentes de la jornada serán Luis Galindo\, reconocido Ponente de Liderazgo\, Motivación y Estrategia\nEmpresarial\, aportará su experiencia de más de 35 años en conferencias sobre motivación\, compartiendo su visión en España y Latinoamérica. Y Rafa Llopis\, renombrado Speaker\, Formador y Consultor\, director de marketing de la empresa alicantina\, Revestech quien ha desempeñado roles destacados como director de Brand Experience e Integración de Marcas en Movistar+\, director de Medios en CANAL+\, y director de marketing en Cuatro\, brindará su perspectiva única en la jornada. \nEsta será la última de las tres actividades desarrolladas por la Fundación TSH en la Il Edición del Valor Social de la Empresa. \n  \n¡JORNADA GRATUITA. INSCRIPCIONES AQUÍ!
URL:https://www.aepalicante.net/event/jornada-seguir-construyendo-juntos-un-futuro-ilusionante/
CATEGORIES:Events
ATTACH;FMTTYPE=image/jpeg:https://www.aepalicante.net/wp-content/uploads/2024/12/Imagen-de-WhatsApp-2023-12-07-a-las-19.54.03_504940b5-dUXlhI.tmp_.jpg
END:VEVENT
END:VCALENDAR