BEGIN:VCALENDAR
VERSION:2.0
PRODID:-//AEPA Alicante - ECPv6.9.1//NONSGML v1.0//EN
CALSCALE:GREGORIAN
METHOD:PUBLISH
X-WR-CALNAME:AEPA Alicante
X-ORIGINAL-URL:https://www.aepalicante.net
X-WR-CALDESC:Eventos para AEPA Alicante
REFRESH-INTERVAL;VALUE=DURATION:PT1H
X-Robots-Tag:noindex
X-PUBLISHED-TTL:PT1H
BEGIN:VTIMEZONE
TZID:Europe/Paris
BEGIN:DAYLIGHT
TZOFFSETFROM:+0100
TZOFFSETTO:+0200
TZNAME:CEST
DTSTART:20220327T010000
END:DAYLIGHT
BEGIN:STANDARD
TZOFFSETFROM:+0200
TZOFFSETTO:+0100
TZNAME:CET
DTSTART:20221030T010000
END:STANDARD
END:VTIMEZONE
BEGIN:VEVENT
DTSTART;TZID=Europe/Paris:20220929T160000
DTEND;TZID=Europe/Paris:20220929T190000
DTSTAMP:20260424T054414
CREATED:20241215T203252Z
LAST-MODIFIED:20241215T204737Z
UID:11318-1664467200-1664478000@www.aepalicante.net
SUMMARY:Jornada sobre economía sostenible: Por qué y cómo avanzar hacia una transformación sostenible
DESCRIPTION:AEPA pone en marcha una jornada que tratará sobre los beneficios de la economía sostenible en nuestros negocios.\nTítulo: Por qué y cómo avanzar hacia una transformación sostenible.\nPonente: Laura Cárdenas es licenciada en periodismo y tiene veinte años de experiencia en medios de\ncomunicación\, trabajando con organismos internacionales como la ONU\, programas de cooperación de la Comisión Europea y empresas multinacionales. Actualmente trabaja como asesora de\ncomunicación para el programa EUROsociAL de la Unión Europea y para el Programa de Naciones Unidas\npara el Desarrollo y es co-fundadora de la consultora en transformación sostenible Yonder.\nFecha: Jueves 29 de septiembre\nHora: 16h\nLugar: Calle Orense nº 10 de Alicante. \nInscripciones en este enlace. \nLas empresas enfrentan en esta crisis retos de gran calado. Parece que lo principal es sobrevivir pero para ello no podemos dejar de lado los grandes desafíos ambientales\, sociales\, tecnológicos\, éticos y competitivos a los que nos encontramos.\nEste nuevo contexto de alta complejidad presenta también grandes oportunidades para aquellas organizaciones y empresas que requieran repensar su aportación de valor\, y establecer cuáles son sus riesgos y aportes para su sostenibilidad económica\, social y medioambiental.\nEstamos transitando hacia un nuevo paradigma empresarial donde la tecnología\, la colaboración y la creación de valor compartido a nivel social\, medioambiental y económico son características empresariales fundamentales.\nAdemás las mujeres estamos liderando el cambio hacia un consumo más responsable y sostenible. Tal y como demuestran los datos\, la mujer se afianza como agente de cambio hacia la nueva economía circular\, lidera la reducción de residuos\, la reutilización de productos y el reciclaje.\nPor eso en esta formación para AEPA abordaremos los principales drivers que están incidiendo en la transformación sostenible y las diferentes tendencias que pueden verse aceleradas en los próximos meses y que pueden afectar a nuestros negocios. Además analizaremos el cambio de paradigma que ha llevado a que la sostenibilidad corporativa sea un requisito para toda empresa o institución y cuáles son las principales claves y herramientas para poder integrarla deforma transversal en nuestras empresa u organización.\n\n\n\n¿Qué aspectos clave abordaremos en la formación?\n\n\n\n¿Por qué y cómo iniciar una transformación sostenible?\nInstrumentos de gestión y reporting de Sostenibilidad Corporativa.\nEjercicio práctico para evaluar la Sostenibilidad Corporativa de una empresa desde los Objetivos de Desarrollo Sostenible
URL:https://www.aepalicante.net/event/jornada-sobre-economia-sostenible-por-que-y-como-avanzar-hacia-una-transformacion-sostenible/
CATEGORIES:Events
ATTACH;FMTTYPE=image/jpeg:https://www.aepalicante.net/wp-content/uploads/2024/12/AEPA-Labora-20-Transformacion-sostenible-GzEyPp.tmp_.jpg
END:VEVENT
END:VCALENDAR