BEGIN:VCALENDAR
VERSION:2.0
PRODID:-//AEPA Alicante - ECPv6.9.1//NONSGML v1.0//EN
CALSCALE:GREGORIAN
METHOD:PUBLISH
X-WR-CALNAME:AEPA Alicante
X-ORIGINAL-URL:https://www.aepalicante.net
X-WR-CALDESC:Eventos para AEPA Alicante
REFRESH-INTERVAL;VALUE=DURATION:PT1H
X-Robots-Tag:noindex
X-PUBLISHED-TTL:PT1H
BEGIN:VTIMEZONE
TZID:Europe/Paris
BEGIN:DAYLIGHT
TZOFFSETFROM:+0100
TZOFFSETTO:+0200
TZNAME:CEST
DTSTART:20220327T010000
END:DAYLIGHT
BEGIN:STANDARD
TZOFFSETFROM:+0200
TZOFFSETTO:+0100
TZNAME:CET
DTSTART:20221030T010000
END:STANDARD
END:VTIMEZONE
BEGIN:VEVENT
DTSTART;TZID=Europe/Paris:20220712T170000
DTEND;TZID=Europe/Paris:20220712T180000
DTSTAMP:20260424T054359
CREATED:20241215T203245Z
LAST-MODIFIED:20241215T204737Z
UID:11311-1657645200-1657648800@www.aepalicante.net
SUMMARY:Mujer\, tecnología y redes sociales
DESCRIPTION:Ante la importancia de dar visibilidad a los casos de éxito de mujeres que trabajan en empresas del sector\, @FEMPA y @AEPA organizan el presente webinar en el que Inmaculada Lara (Social Media Comunicación)\, Ana Espadas (Agencia de Comunicación) y Carolina Vallés (La Fábrica del SEO) expondrán su visión sobre el papel de la mujer actual en las redes sociales\, su contribución en este ámbito a través de sus experiencias\, así como los estereotipos de género en el mundo virtual. \nFecha: 12-07\nHorario: 17h\nModalidad: virtual\nInscripciones en este enlace \nUna iniciativa FEDER\nLas Oficinas Acelera pyme puestas en marcha en toda España por Red.es\, entidad pública adscrita al Ministerio de Asuntos Económicos y Transformación Digital a través de la Secretaría de Estado de Digitalización e Inteligencia Artificial\, cuentan con un presupuesto global de 8 millones de euros\, de los cuales Red.es aportará 6\,3 y las entidades beneficiarias el resto. Las actuaciones están cofinanciadas con fondos FEDER de la Unión Europea\, en el marco del Programa Operativo Plurirregional de España FEDER 2014-2020 (POPE) bajo el lema “Una manera de hacer Europa”.
URL:https://www.aepalicante.net/event/mujer-tecnologia-y-redes-sociales/
ATTACH;FMTTYPE=image/jpeg:https://www.aepalicante.net/wp-content/uploads/2024/12/REDES-SOCIALES-NzcKHU.tmp_.jpg
END:VEVENT
END:VCALENDAR