BEGIN:VCALENDAR
VERSION:2.0
PRODID:-//AEPA Alicante - ECPv6.9.1//NONSGML v1.0//EN
CALSCALE:GREGORIAN
METHOD:PUBLISH
X-WR-CALNAME:AEPA Alicante
X-ORIGINAL-URL:https://www.aepalicante.net
X-WR-CALDESC:Eventos para AEPA Alicante
REFRESH-INTERVAL;VALUE=DURATION:PT1H
X-Robots-Tag:noindex
X-PUBLISHED-TTL:PT1H
BEGIN:VTIMEZONE
TZID:Europe/Paris
BEGIN:DAYLIGHT
TZOFFSETFROM:+0100
TZOFFSETTO:+0200
TZNAME:CEST
DTSTART:20230326T010000
END:DAYLIGHT
BEGIN:STANDARD
TZOFFSETFROM:+0200
TZOFFSETTO:+0100
TZNAME:CET
DTSTART:20231029T010000
END:STANDARD
END:VTIMEZONE
BEGIN:VEVENT
DTSTART;TZID=Europe/Paris:20230302T093000
DTEND;TZID=Europe/Paris:20230302T093000
DTSTAMP:20260424T041425
CREATED:20241215T203341Z
LAST-MODIFIED:20241215T204740Z
UID:11357-1677749400-1677749400@www.aepalicante.net
SUMMARY:MUJERES DE ÉXITO INSPIRADORAS
DESCRIPTION:AEPA y Jovempa Marina Alta organizan la jornada networking «Mujeres de éxito inspiradoras».\nUna oportunidad para conocer nuevos modelos de negocio\, casos de éxito de mujeres que inspiran y hacer networking.\nFecha: 2-03\nHora: 9h30\nLugar: Multiespacio L´Androna en Denia. Ubicación.\nInscripciones en este enlace.
URL:https://www.aepalicante.net/event/mujeres-de-exito-inspiradoras/
CATEGORIES:Events
ATTACH;FMTTYPE=image/jpeg:https://www.aepalicante.net/wp-content/uploads/2024/12/unnamed1-1-Tk6kEm.tmp_.jpg
END:VEVENT
END:VCALENDAR