BEGIN:VCALENDAR
VERSION:2.0
PRODID:-//AEPA Alicante - ECPv6.9.1//NONSGML v1.0//EN
CALSCALE:GREGORIAN
METHOD:PUBLISH
X-WR-CALNAME:AEPA Alicante
X-ORIGINAL-URL:https://www.aepalicante.net
X-WR-CALDESC:Eventos para AEPA Alicante
REFRESH-INTERVAL;VALUE=DURATION:PT1H
X-Robots-Tag:noindex
X-PUBLISHED-TTL:PT1H
BEGIN:VTIMEZONE
TZID:Europe/Madrid
BEGIN:DAYLIGHT
TZOFFSETFROM:+0100
TZOFFSETTO:+0200
TZNAME:CEST
DTSTART:20260329T010000
END:DAYLIGHT
BEGIN:STANDARD
TZOFFSETFROM:+0200
TZOFFSETTO:+0100
TZNAME:CET
DTSTART:20261025T010000
END:STANDARD
END:VTIMEZONE
BEGIN:VEVENT
DTSTART;TZID=Europe/Madrid:20260122T183000
DTEND;TZID=Europe/Madrid:20260122T203000
DTSTAMP:20260426T013406
CREATED:20260113T143830Z
LAST-MODIFIED:20260113T143830Z
UID:13948-1769106600-1769113800@www.aepalicante.net
SUMMARY:PRESENTACIÓN LIBRO
DESCRIPTION:¡VENTE A LA PRESENTACIÓN DEL NUEVO LIBRO DE REFLEXIONES SOBRE LA MUJER EN EL MUNDO AUDIOVISUAL!\n\n\n\n\n\nAEPA y MXI te invitan a la presentación oficial del libro 𝐄l á𝐦b𝐢t𝐨 𝐚u𝐝i𝐨v𝐢s𝐮a𝐥 𝐝e𝐬d𝐞 𝐥a p𝐞r𝐬p𝐞c𝐭i𝐯a d𝐞 𝐠é𝐧e𝐫o. 𝐑e𝐟l𝐞x𝐢o𝐧e𝐬 𝐚 𝐥a l𝐮z d𝐞 𝐥a f𝐢g𝐮r𝐚 𝐝e H𝐞l𝐞n𝐚 𝐂o𝐫t𝐞s𝐢n𝐚\, una obra colectiva que propone una reflexión rigurosa y actual sobre el sector audiovisual desde una perspectiva de género\, tomando como referencia la figura pionera de Helena Cortesina.\n\n\n \n\n\n🗓 jueves\, 22 de enero de 2026\n\n\n⏳18:30 a 20:30 horas\n\n\n📍Cinemateca del edificio La Valona de la Universidad Miguel Hernández de Elche.\n\n\n \n\n\nLa sesión incluirá\, en primer lugar\, la intervención de las entidades implicadas en la elaboración de la obra\, entre las que se encuentran la Asociación de Mujeres por la Igualdad de Alicante\, el Festival de Cortometrajes Helena Cortesina\, la Unidad de Igualdad de la UMH y el Observatorio de las Masculinidades de la UMH. \n\n\n \n\n\nLINK DE INSCRIPCIÓN: https://docs.google.com/forms/d/e/1FAIpQLScgTiE8W5KoSlT_e4-hJXD0JRzvWMgBR-fsdZkgSn4XeuMYXg/viewform
URL:https://www.aepalicante.net/event/presentacion-libro/
CATEGORIES:Events
ATTACH;FMTTYPE=image/jpeg:https://www.aepalicante.net/wp-content/uploads/2026/01/unnamed.jpg
END:VEVENT
END:VCALENDAR